Workbook

Sheet 2022-2023 ACT
B1: 44378 | C1: 44409 | D1: 44440 | E1: 44470 | F1: 44501 | G1: 44531 | H1: 44562 | I1: 44593 | J1: 44621 | K1: 44652 | L1: 44682 | M1: 44713 | N1: YTD | O1: Budget | P1: Over/Under
A2: Income
A3: 5th Grade Send Off (flow-thru) | N3: =SUM(B3:M3) -> 0 | O3: 0 | P3: =N3-O3 -> 0
A4: Book Fair (Flow-thru) | E4: =2782+88.21 -> 2870.21 | N4: =SUM(B4:M4) -> 2870.21 | O4: 4000 | P4: =N4-O4 -> -1129.79
A5: Bottle Drop | N5: =SUM(B5:M5) -> 0 | O5: 2000 | P5: =N5-O5 -> -2000 | Q5: 1686
A6: Box Tops | N6: =SUM(B6:M6) -> 0 | O6: 0 | P6: =N6-O6 -> 0 | Q6: 113
A7: Boy Scouts (flow thru - donations earmarked for Scouts) | N7: =SUM(B7:M7) -> 0 | O7: 2000 | P7: =N7-O7 -> -2000
A8: Community Fundraiser | N8: =SUM(B8:M8) -> 0 | O8: 1000 | P8: =N8-O8 -> -1000
A9: Fun Run | E9: =296.06+2106.5 -> 2402.56 | F9: =25993.51+25+100+100 -> 26218.51 | N9: =SUM(B9:M9) -> 28621.07 | O9: 25000 | P9: =N9-O9 -> 3621.07 | Q9: 28866
A10: Member/Misc (Donation; incl. corp. match funds) | E10: 20 | F10: =710.01 -> 710.01 | N10: =SUM(B10:M10) -> 730.01 | O10: 2000 | P10: =N10-O10 -> -1269.99
A11: Restaurant Night | N11: =SUM(B11:M11) -> 0 | O11: 500 | P11: =N11-O11 -> -500 | Q11: 233
A12: Rewards Programs (Amazon Smile, Fred Meyer) | D12: =148.45+109.81 -> 258.26 | F12: =108+120.71 -> 228.71 | N12: =SUM(B12:M12) -> 486.97 | O12: 800 | P12: =N12-O12 -> -313.03
A13: School Supplies Donations | D13: 7369.83 | N13: =SUM(B13:M13) -> 7369.83 | O13: 7000 | P13: =N13-O13 -> 369.83
A14: Science Expo | N14: =SUM(B14:M14) -> 0 | O14: 500 | P14: =N14-O14 -> -500
A15: Staff Appreciation donations | N15: =SUM(B15:M15) -> 0 | O15: 1000 | P15: =N15-O15 -> -1000
A17: Total Income | B17: =SUM(B3:B16) -> 0 | C17: =SUM(C3:C16) -> 0 | D17: =SUM(D3:D16) -> 7628.09 | E17: =SUM(E3:E16) -> 5292.77 | F17: =SUM(F3:F16) -> 27157.23 | G17: =SUM(G3:G16) -> 0 | H17: =SUM(H3:H16) -> 0 | I17: =SUM(I3:I16) -> 0 | ... P17: =SUM(P3:P16) -> -5721.91
A18: Expenses
A19: 5th Grade Send Off (Expenses) | N19: =SUM(B19:M19) -> 0 | O19: 1500 | P19: =O19-N19 -> 1500
A20: Art Literacy | F20: =150 -> 150 | N20: =SUM(B20:M20) -> 150 | O20: 1500 | P20: =O20-N20 -> 1350
A21: Assemblies | N21: =SUM(B21:M21) -> 0 | O21: 2000 | P21: =O21-N21 -> 2000
A22: Battle of the Books | D22: 65 | N22: =SUM(B22:M22) -> 65 | O22: 1500 | P22: =O22-N22 -> 1435
A23: Boohoo Woohoo (welcome new families) | N23: =SUM(B23:M23) -> 0 | O23: 100 | P23: =O23-N23 -> 100
A24: Book Fair | F24: 1252.38 | N24: =SUM(B24:M24) -> 1252.38 | O24: 4000 | P24: =O24-N24 -> 2747.62
A25: Book Fair profit | N25: =SUM(B25:M25) -> 0 | O25: 890 | P25: =O25-N25 -> 890
A26: Book Room | N26: =SUM(B26:M26) -> 0 | O26: 500 | P26: =O26-N26 -> 500 | S26: 44868
A27: Brain Pop (Peterson) | N27: =SUM(B27:M27) -> 0 | O27: 230 | P27: =O27-N27 -> 230 | S27: Bank Accounts
A28: Chess Club | N28: =SUM(B28:M28) -> 0 | O28: 100 | P28: =O28-N28 -> 100 | S28: Business Checking | U28: 13226 | V28: =SUM(U28:U29) -> 39219 | W28: Operating
A29: Class Parties | F29: =139.02+45.97+50+49.09+38.05 -> 322.13 | N29: =SUM(B29:M29) -> 322.13 | O29: 2700 | P29: =O29-N29 -> 2377.87 | S29: Paypal | U29: 25993
A30: Clothes Closet Donation | D30: 250 | N30: =SUM(B30:M30) -> 250 | O30: 250 | P30: =O30-N30 -> 0 | S30: Business Savings | U30: 12944 | V30: =SUM(U30:U32) -> 23551.58 | W30: Reserves
A31: Community Fundraiser (Flow through) | N31: =SUM(B31:M31) -> 0 | O31: 1000 | P31: =O31-N31 -> 1000 | S31: CD 10 - 12 month (Jan) | U31: 5283
A32: Donut with Your Grown-Up/Movie night | N32: =SUM(B32:M32) -> 0 | O32: 750 | P32: =O32-N32 -> 750 | S32: CD 15 - 12 month (Jul) | U32: 5324.58
A33: Dry Cleaining (Furry Grover) | N33: =SUM(B33:M33) -> 0 | O33: 50 | P33: =O33-N33 -> 50 | U33: =SUM(U28:U32) -> 62770.58
A34: Dues & Subscriptions | E34: =21.17+20.17 -> 41.34 | F34: 149 | N34: =SUM(B34:M34) -> 190.34 | O34: 600 | P34: =O34-N34 -> 409.66
A35: Emergency Buckets | D35: 101.92 | N35: =SUM(B35:M35) -> 101.92 | O35: 100 | P35: =O35-N35 -> -1.92
A36: Field Day (Villegas) | N36: =SUM(B36:M36) -> 0 | O36: 200 | P36: =O36-N36 -> 200
A37: Field Trips | N37: =SUM(B37:M37) -> 0 | P37: =O37-N37 -> 0
A38: Kindy | E38: 120 | N38: =SUM(B38:M38) -> 120 | O38: 1875 | P38: =O38-N38 -> 1755
A39: 1st Grade | N39: =SUM(B39:M39) -> 0 | O39: 1875 | P39: =O39-N39 -> 1875
A40: 2nd Grade | D40: 210.15 | N40: =SUM(B40:M40) -> 210.15 | O40: 1875 | P40: =O40-N40 -> 1664.85
A41: 3rd Grade | N41: =SUM(B41:M41) -> 0 | O41: 1875 | P41: =O41-N41 -> 1875
...

Sheet Teacher funds
E2: 44868
B3: Grade/Class | C3: Name | D3: Budget | E3: Spent YTD | F3: Remaining
B4: 1st | C4: Trinci | D4: 250 | E4: =50.42 -> 50.42 | F4: =D4-E4 -> 199.58 | H4: Molly_Norris@beaverton.k12.or.us
B5: 1st | C5: Ford | D5: 250 | E5: 248.71 | F5: =D5-E5 -> 1.29 | H5: Rhonda_Harwood@beaverton.k12.or.us
B6: 1st | C6: Barto | D6: 250 | E6: 250 | F6: =D6-E6 -> 0 | H6: Greg_Leijon@beaverton.k12.or.us
B7: 2nd | C7: Melvin | D7: 250 | E7: =13+8.2 -> 21.2 | F7: =D7-E7 -> 228.8 | H7: Melissa_Mayes@beaverton.k12.or.us
B8: 2nd | C8: Beltran | D8: 250 | E8: =13+8.2 -> 21.2 | F8: =D8-E8 -> 228.8 | H8: Tara_Trinci@beaverton.k12.or.us
B9: 2nd | C9: Viegas | D9: 250 | E9: =13+8.2 -> 21.2 | F9: =D9-E9 -> 228.8
B10: 3rd | C10: West | D10: 250 | E10: 0 | F10: =D10-E10 -> 250 | H10: brynn_viegas@beaverton.k12.or.us
B11: 3rd | C11: Oakes | D11: 250 | E11: 0 | F11: =D11-E11 -> 250 | H11: cheyenne_kiefel@beaverton.k12.or.us
B12: 4th | C12: Peterson | D12: 250 | E12: 0 | F12: =D12-E12 -> 250 | H12: jennifer_beltran@beaverton.k12.or.us
B13: 4th | C13: Calafet | D13: 250 | E13: 57.08 | F13: =D13-E13 -> 192.92 | H13: Kristin_Melvin@beaverton.k12.or.us
B14: 4th | C14: Winterfeld | D14: 250 | F14: =D14-E14 -> 250 | H14: Kristin_Melvin@beaverton.k12.or.us
B15: 5th | C15: Lee | D15: 250 | E15: =29.02 -> 29.02 | F15: =D15-E15 -> 220.98 | H15: renee_oakes@beaverton.k12.or.us
B16: 5th | C16: Serrao | D16: 250 | E16: ='2022-2023 ACT'!T18 -> 0 | F16: =D16-E16 -> 250 | H16: jessica_west@beaverton.k12.or.us
B17: Coach/Intvtn | C17: Hausman | D17: 250 | E17: ='2022-2023 ACT'!W14 -> 0 | F17: =D17-E17 -> 250 | H17: laurie_calafet@beaverton.k12.or.us
B18: Coach/Intvtn | C18: Pearson | D18: 250 | E18: 149.51 | F18: =D18-E18 -> 100.49 | H18: Jason_Peterson@beaverton.k12.or.us
B19: Coach/Intvtn | C19: King | D19: 250 | E19: ='2022-2023 ACT'!W16 -> 0 | F19: =D19-E19 -> 250 | H19: stacy_serrao@beaverton.k12.or.us
B20: Counselor | C20: Caryl | D20: 250 | E20: =62.29 -> 62.29 | F20: =D20-E20 -> 187.71 | H20: richard_lee@beaverton.k12.or.us
B21: ESL | C21: Abel | D21: 250 | E21: ='2022-2023 ACT'!W10 -> 0 | F21: =D21-E21 -> 250 | H21: jennifer_mohr@beaverton.k12.or.us
B22: ESL | C22: Debusk | D22: 250 | E22: 249.98 | F22: =D22-E22 -> 0.02 | H22: leslie_villegas@beaverton.k12.or.us
B23: K | C23: Harwood | D23: 250 | E23: ='2022-2023 ACT'!T6 -> 0 | F23: =D23-E23 -> 250 | H23: LisaKaren_Donnelly@beaverton.k12.or.us
B24: K | C24: Mayes | D24: 250 | E24: ='2022-2023 ACT'!T8 -> 0 | F24: =D24-E24 -> 250 | H24: Lindsay_Ruhnke@beaverton.k12.or.us
B25: K | C25: Leijon | D25: 250 | E25: 142.14 | F25: =D25-E25 -> 107.86 | H25: joyce_debusk@beaverton.k12.or.us
B26: Learning Spec | C26: Choo | D26: 250 | E26: ='2022-2023 ACT'!W18 -> 0 | F26: =D26-E26 -> 250 | H26: debbie_abel@beaverton.k12.or.us
B27: Learning Spec | C27: Fulle | D27: 250 | E27: ='2022-2023 ACT'!W17 -> 0 | F27: =D27-E27 -> 250 | H27: Maureen_Caryl@beaverton.k12.or.us
B28: Library | C28: Donnelly | D28: 250 | E28: ='2022-2023 ACT'!W7 -> 0 | F28: =D28-E28 -> 250 | H28: deborah_starr@beaverton.k12.or.us
B29: Music | C29: Colett | D29: 250 | E29: ='2022-2023 ACT'!W5 -> 0 | F29: =D29-E29 -> 250 | H29: elizabeth_silver@beaverton.k12.or.us
B30: PE | C30: Villegas | D30: 250 | E30: ='2022-2023 ACT'!W6 -> 0 | F30: =D30-E30 -> 250 | H30: jennifer_hausman@beaverton.k12.or.us
B31: PreK | C31: Norris | D31: 250 | E31: ='2022-2023 ACT'!T5 -> 0 | F31: =D31-E31 -> 250 | H31: jada_pearson@beaverton.k12.or.us
B32: Psych | C32: Smith | D32: 250 | E32: ='2022-2023 ACT'!W20 -> 0 | F32: =D32-E32 -> 250 | H32: Michelle_King@beaverton.k12.or.us
B33: Social Wkr | C33: Silver | D33: 250 | E33: =20.74+80.66 -> 101.4 | F33: =D33-E33 -> 148.6 | H33: Brenda_Fulle@beaverton.k12.or.us
B34: Speech | C34: Dolan | D34: 250 | E34: ='2022-2023 ACT'!W19 -> 0 | F34: =D34-E34 -> 250 | H34: Shiok_Choo@beaverton.k12.or.us
B35: Stu Success | C35: Starr | D35: 250 | E35: =19.48 -> 19.48 | F35: =D35-E35 -> 230.52 | H35: Sara_Dolan@beaverton.k12.or.us
B36: Tech | C36: Ruhnke | D36: 500 | E36: =152.48+175.93 -> 328.41 | F36: =D36-E36 -> 171.59 | H36: Kelly_Smith@beaverton.k12.or.us
D38: =SUM(D4:D36) -> 8500 | E38: =SUM(E4:E36) -> 1752.04 | F38: =SUM(F4:F36) -> 6747.96

Sheet June update notes
A1: Fir Grove PTO
A3: Budget overview
A4: · Fun Run is our one big fundraiser that funds most of what we do
A5: - Biggest expenditures funded by Fun Run: Field Trips ($13K), teacher supplies ($8K), Art Lit, class parties
A6: · We also get a large donation from Beaverton Christian Church to fund school supplies
A7: - Keeps supply list for families to a minimum
A8: - Our supplies coordinator (Minta Johnson) uses these funds to stock the classrooms, coordinating with teachers
A10: - This year BCC raised $9,325, exceeding our budget of $7,000!
A12: Fun Run
A13: · We budgeted income of $25K last spring in hopes of a “normal” in-person Fun Run this fall
A14: · Last year we earned $12K with a virtual/socially-distanced Fun Run
A15: - Students ran laps in neighborhood individually or with family/friends
... A48: January activity
A49: · Another slow month - expected in December | B49: Received a $500 donation from a community member
A50: · Spent $629, mostly on staff appreciation (new Keurig coffee maker for staff room)
A51: · No clarity yet on Field Trip funds, still communicating with teachers and looking into remote options (OMSI, etc.)
A54: February activity
A55: · Received $449 from various sources - Box Tops, MOD Pizza, etc.
A56: · Spent $2,144, including $600 for an Assembly performance, $490 on class parties, $477 on classroom supplies for teachers.
A57: · Question on whether there is time to do in-person field trips this year with COVID restrictions easing. May be limited by bus staffing availability.
A59: · We have a request to help fund a screen in the gym. We are waiting to see how Fun Run fundraising goes before committing.
A62: March activity
A63: · Received $25.6K for Fun Run (hooray!), and $1,114 for community fundraiser
A64: · Spent $5,853 on Fun Run expenses - T-shirts and PledgeStar fee ($995), $250 Clothes Closet donation, and $651 on misc other supplies, etc.
A66: · Question on whether there is time to do in-person field trips this year with COVID restrictions easing. May be limited by bus staffing availability.
A68: · We have a request to help fund a screen in the gym. Since we met our Fun Run goal, we will vote at the April meeting for approval to fund this.
... A87: · We never got billed for school buses for 2nd/4th grade field trips. Presumably we will get those in the fall and need to absorb in 22/23 budget.

Sheet Sheet2
A1: Total Field Trips | B1: 11800
A2: Teacher Supplies | B2: 8250
A3: School Supplies | B3: 7000
A4: Fun Run supplies, prizes, and T-shirts | B4: 5000
A5: Book Fair | B5: 4000
A6: Class Parties | B6: 2700
A7: Assemblies | B7: 2000
A8: 5th Grade Send Off (Expenses) | B8: 1500
A9: Art Literacy | B9: 1500
A10: Battle of the Books | B10: 1500
A11: Staff Appreciation/Conference | B11: 1350
A12: Community Fundraiser (Flow through) | B12: 1000
... A47: Dry Cleaining (Furry Grover) | B47: 50

Sheet Sheet1
A1: PTO Meetings | B1: 9.5
A2: Meet Your Teacher | B2: 33.57
A3: Dues & Subscriptions | B3: 41.34
A4: Battle of the Books | B4: 65
A5: Taxes & Licenses | B5: 90
A6: Emergency Buckets | B6: 101.92
A7: Sunshine Fund | B7: 109.9
A8: Class Parties | B8: 139.02
A9: Staff Meals (Principal) | B9: 235
A10: Clothes Closet Donation | B10: 250
A11: Insurance | B11: 335
A12: Scholastic (3rd Grade) | B12: 395.34
... A19: School Supplies | B19: 4431.88

Sheet PY 2020-2021 ACT
S2: Teacher Supplies (Used)
S3: Grade | T3: Teacher | U3: $ | V3: Grade | W3: Teacher | X3: $
S4: K | T4: Mayes | U4: 250 | V4: Couns | W4: Caryl | X4: 242.93
S5: K | T5: Summers | U5: 250 | V5: Psych | W5: Servin Spath | X5: 250
S6: K/1 | T6: Pearson | U6: 250 | V6: ESL | W6: Abel | X6: 242.12
S7: 1st | T7: Trinci | U7: 250 | V7: ESL | W7: Debusk | X7: 250
S8: 1st | T8: Viegas | U8: 250 | V8: Intervention | W8: Rousseau | X8: 8.68
S9: 2nd | T9: Beltran | U9: 245.97 | V9: Library | W9: Donnelly | X9: =100.02+51.55 -> 151.57
S10: 2nd | T10: Melvin | U10: 248.97 | V10: Music | W10: Colett | X10: 249.4
S11: 3rd | T11: Hausman | U11: 250 | V11: PE | W11: Villegas | X11: 237.89
S12: 3rd | T12: Oakes | U12: 250 | V12: Tech | W12: Cody/Phou | X12: 249.67
S13: 3rd | T13: West | U13: 250 | V13: Resource | W13: Keegan | X13: 219.06
S14: 4th | T14: Calafet | U14: =(70.74+35.64)/2+7.95+188.86 -> 250 | V14: Speech | W14: Guernsey | X14: 248.25
O15: **Budget as of August** | S15: 4th | T15: Peterson | U15: =(70.74+35.64)/2+28.14+7.95+89.64+71.08 -> 250 | V15: Stu Success | W15: Starr | X15: =47.75+200.9 -> 248.65
B16: 44033 | C16: 44044 | D16: 44075 | E16: 44105 | F16: 44136 | G16: 44166 | H16: 44197 | I16: 44228 | J16: 44276 | K16: 44287 | L16: 44317 | M16: 44348 | N16: YTD | O16: Budget | P16: Over/Under | S16: 5th | T16: Serrao | U16: =84.97+88.72+19.35 -> 193.04 | V16: Primary | W16: King | X16: =83.2+43.9+120.32 -> 247.42
A17: Income | S17: 5th | T17: Lee | U17: =165+85 -> 250
A18: 5th Grade Send Off (flow-thru) | L18: 2423 | N18: =SUM(B18:M18) -> 2423 | O18: 0 | P18: =O18-N18 -> -2423 | S18: 5th | T18: Wilson | U18: 248.68
A19: Book Fair (Flow-thru) | N19: =SUM(B19:M19) -> 0 | O19: 4000 | P19: =O19-N19 -> 4000 | S19: Total | X19: =SUM(U4:U18,X4:X18) -> 6532.3
A20: Battle of the books | N20: =SUM(B20:M20) -> 0 | O20: 0 | P20: =O20-N20 -> 0
A21: Bottle Drop | N21: =SUM(B21:M21) -> 0 | O21: 1000 | P21: =O21-N21 -> 1000
A22: Box Tops | H22: 147.9 | L22: 25.5 | N22: =SUM(B22:M22) -> 173.4 | O22: 400 | P22: =O22-N22 -> 226.6 | T22: Bank Accounts | Y22: =X19-N88 -> 0
A23: Scouts (flow thru) | C23: 340 | N23: =SUM(B23:M23) -> 340 | O23: 2000 | P23: =O23-N23 -> 1660 | T23: CD 10 - 12 month (Jan) | V23: 5273.26 | Y23: =X19/O88 -> 0.87097333
A24: Food Donation | F24: 218.35 | N24: =SUM(B24:M24) -> 218.35 | O24: 0 | P24: =O24-N24 -> -218.35 | T24: CD 15 - 12 month (Jul) | V24: 5318.39
A25: Fun Run | E25: =6841.42 -> 6841.42 | F25: 4793.49 | G25: 388 | N25: =SUM(B25:M25) -> 12022.91 | O25: 20000 | P25: =O25-N25 -> 7977.09 | T25: CD 16-3 month (2/5/8/11) | V25: 1561.05
A26: Member/Misc (Donation; incl. corp. match funds) | B26: 113.72 | C26: =2216.2+14-340 -> 1890.2 | F26: 122 | G26: 768.25 | I26: 314 | K26: =195.11 -> 195.11 | M26: 231.2 | N26: =SUM(B26:M26) -> 3634.48 | O26: 2000 | P26: =O26-N26 -> -1634.48 | T26: CD 18 - 6 month (4/10) | V26: 5281.68
A27: Penny Drive | N27: =SUM(B27:M27) -> 0 | O27: 1000 | P27: =O27-N27 -> 1000 | T27: CD 19 - 3 month (1/4/7/10) | V27: 1037.36
A28: Restaurant Night | N28: =SUM(B28:M28) -> 0 | O28: 500 | P28: =O28-N28 -> 500 | T28: Business Savings | V28: 5054.28 | W28: =V28+V29 -> 12380.51 | X28: operating
A29: Rewards Programs (Amazon Smile, Fred Meyer) | C29: =87.15 -> 87.15 | D29: 116.52 | F29: 218.69 | I29: 241.45 | L29: =121.89+127.68 -> 249.57 | N29: =SUM(B29:M29) -> 913.38 | O29: 500 | P29: =O29-N29 -> -413.38 | T29: Business Checking | V29: 7326.23
A30: School Supplies | C30: 7020 | N30: =SUM(B30:M30) -> 7020 | O30: 7000 | P30: =O30-N30 -> -20 | T30: Paypal | V30: 0
A31: Science Expo | N31: =SUM(B31:M31) -> 0 | O31: 500 | P31: =O31-N31 -> 500 | V31: =SUM(V23:V30) -> 30852.25
A32: Staff Appreciation donations | K32: 915.7 | L32: 20 | N32: =SUM(B32:M32) -> 935.7 | O32: 0 | P32: =O32-N32 -> -935.7
A33: Total Income | B33: =SUM(B18:B32) -> 113.72 | C33: =SUM(C18:C32) -> 9337.35 | D33: =SUM(D18:D32) -> 116.52 | E33: =SUM(E18:E32) -> 6841.42 | F33: =SUM(F18:F32) -> 5352.53 | G33: =SUM(G18:G32) -> 1156.25 | H33: =SUM(H18:H32) -> 147.9 | I33: =SUM(I18:I32) -> 555.45 | ... L33: =SUM(L18:L32) -> 2718.07 | M33: =SUM(M18:M31) -> 231.2 | N33: =SUM(N18:N32) -> 27681.22 | O33: =SUM(O18:O32) -> 38900 | P33: =SUM(P18:P32) -> 11218.78
A35: Expenses
A36: 5th Grade Send Off (Expenses) | L36: 83.91 | M36: =212.05+1769.92+99.87 -> 2081.84 | N36: =SUM(B36:M36) -> 2165.75 | O36: 0 | P36: =O36-N36 -> -2165.75
A37: Art Literacy | I37: 477.08 | N37: =SUM(B37:M37) -> 477.08 | O37: 1500 | P37: =O37-N37 -> 1022.92
A38: Assemblies | H38: 1350 | N38: =SUM(B38:M38) -> 1350 | O38: 2000 | P38: =O38-N38 -> 650
A39: Battle of the Books | H39: 1488.73 | I39: 85.27 | N39: =SUM(B39:M39) -> 1574 | O39: 1574 | P39: =O39-N39 -> 0
A40: Book Fair | N40: =SUM(B40:M40) -> 0 | O40: 4000 | P40: =O40-N40 -> 4000
A41: Book Grant (King) | I41: 60 | J41: 17.5 | L41: =280.87+139.97 -> 420.84 | N41: =SUM(B41:M41) -> 498.34 | O41: 500 | P41: =O41-N41 -> 1.66
A42: Book Room | G42: 241 | H42: 25.5 | I42: 38.5 | J42: 78 | K42: 526.36 | L42: 87 | N42: =SUM(B42:M42) -> 996.36 | O42: 958 | P42: =O42-N42 -> -38.36
...
