Workbook

Sheet 23 23 Proposed
B2: YTD Actual | C2: End of Yr Estimate | D2: Current Budget | F2: Proposed Budget for 23/24
A3: Income
A4: 5th Grade Send Off (flow-thru) | B4: 407 | C4: =B4 -> 407 | F4: 200 | G4: After concession expenses of $158, the actual amount generated was $249. Do we want to commit to the dance again next year and let Fifth graders sell concessions again?
A5: Book Fair Cash Sales (Flow-thru) | B5: 2903.85 | C5: =B5 -> 2903.85 | D5: 4000 | F5: 3000 | G5: $3000 is a realistic cash profit for next year ($1500 from each fair)
A6: Bottle Drop | B6: 2600 | C6: 3000 | D6: 2000 | F6: 2200 | G6: Increase a bit? Right now we're on track to bring in $3000
A7: Box Tops | B7: 124.9 | C7: =B7 -> 124.9 | D7: 0 | F7: 50 | G7: Add back in. Right now we're on track to bring in $200
A8: Boy Scouts (flow thru - donations earmarked for Scouts) | B8: 0 | C8: =B8 -> 0 | D8: 2000 | G8: N/A. remove from budget
A9: Community/Other Fundraiser | C9: =B9 -> 0 | D9: 1000 | F9: 0 | G9: Suggesting we remove this as an item to be budgeted for.
A10: Fun Run | B10: 28621.07 | C10: =B10 -> 28621.07 | D10: 25000 | F10: 25000 | G10: Keep same
A11: Member/Misc (Donation; incl. corp. match funds) | B11: 2350.66 | C11: =B11 -> 2350.66 | D11: 2000 | F11: 2000 | G11: Keep same
A12: Music & School Concert Donations | B12: 249.55 | C12: =450 -> 450 | D12: 0 | F12: 200 | G12: Line item to add
A13: Restaurant/Retail Fundraiser | B13: =847.11+1711+143.28 -> 2701.39 | C13: 2850 | D13: 500 | F13: 750 | G13: Increase a little. $990 was our profit prior to the $1711 added from McMenamins. Its unknown at this point whether or not we'll get McMenamins again next year.
A14: Rewards Programs (Amazon Smile, Fred Meyer) | B14: 965.52 | C14: =B14 -> 965.52 | D14: 800 | F14: 450 | G14: Reduce since we'll no longer be receiving a kickback from amazon. Kroger generated $459
A15: School Supplies Donations | B15: 7369.83 | C15: =B15 -> 7369.83 | D15: 7000 | F15: 7000 | G15: Keep same
A16: Science Expo | B16: 0 | C16: 400 | D16: 500 | F16: 500 | G16: Keep same depending on concession sales
A17: Staff Appreciation donations | B17: 226 | C17: =B17 -> 226 | D17: 1000 | F17: 300 | G17: Reduce.
C18: =B18 -> 0
A19: Total Income | B19: =SUM(B4:B18) -> 48519.77 | C19: =SUM(C4:C18) -> 49668.83 | D19: =SUM(D4:D18) -> 45800 | F19: =SUM(F4:F18) -> 41650
A20: Expenses
A21: 5th Grade Send Off (Expenses) | B21: =500+158 -> 658 | C21: =B21+1200+650 -> 2508 | D21: 1500 | F21: 1500 | G21: Keep same.
A22: Art Literacy | B22: 548.55 | C22: =B22 -> 548.55 | D22: 1500 | F22: 1000 | G22: Reduce? Based on the last 3 years of spending.
A23: Assemblies | B23: 800 | C23: =B23 -> 800 | D23: 2000 | F23: 2000 | G23: Keep same.
A24: Battle of the Books | B24: 1245.32 | C24: =B24 -> 1245.32 | D24: 1500 | F24: 1500 | G24: Keep same.
A25: Boohoo Woohoo (welcome new families) | B25: 0 | C25: =B25 -> 0 | D25: 100 | F25: 100 | G25: Keep same.
A26: Book Fair Profit Spending | B26: 286 | C26: =B26+2000 -> 2286 | D26: 4000 | F26: 3000 | G26: Mrs. Donnelly requested $1500 cash profit from each book fair for a total of $3000, therefore this profit should be her book budget for next year.
A27: Book Fair Profit | B27: 0 | C27: =B27 -> 0 | D27: 890 | F27: 0 | G27: Remove? Im not sure what this line item was for.
A28: Book Room | B28: 275.2 | C28: =B28 -> 275.2 | D28: 500 | F28: 500 | G28: Keep same?
A29: Brain Pop (Peterson) | B29: 0 | C29: =B29+230 -> 230 | D29: 230 | F29: 230 | G29: ?
A30: Chess Club | B30: 0 | C30: =B30 -> 0 | D30: 100 | F30: 0 | G30: Remove?
A31: Class Parties | B31: 655.4 | C31: =1200 -> 1200 | D31: 2700 | F31: 2550 | G31: (17 classes x $50) x 3 parties a year?
A32: Clothes Closet Donation | B32: 250 | C32: =B32 -> 250 | D32: 250 | F32: 250 | G32: Keep same.
A33: Community Fundraiser (Flow through) | B33: 0 | C33: =B33 -> 0 | D33: 1000 | F33: 0 | G33: remove
A34: Concerts / Music Room Supplies | B34: 2216.21 | C34: 2750 | D34: 2750 | F34: 3250 | G34: *we had agreed to fund an additional $2750 and with the $250 already given, that puts music funding at $3000. Ms Colette is now asking for $3500 just for next year because inflation brought up the price of instruments.
A35: Family Events - Donut w/GrownUp/Dance | B35: 667.21 | C35: =B35 -> 667.21 | D35: 750 | F35: 750 | G35: keep same.
A36: Dry Cleaining (Furry Grover) | B36: 0 | C36: =B36 -> 0 | D36: 50 | F36: 50 | G36: Keep same.
A37: Dues & Subscriptions | B37: 190.34 | C37: 580 | D37: 600 | F37: 500 | G37: Reduce. Zoom cancelled ($149). Smore $126, Wordpress $48, Quickbooks $215-270ish, godaddy $40
A38: Emergency Buckets | B38: 101.92 | C38: =B38 -> 101.92 | D38: 100 | F38: 100 | G38: Keep same.
A39: Field Day (Villegas) | B39: 47.94 | C39: 200 | D39: 200 | F39: 200 | G39: Keep same.
A40: Field Trips | B40: 0
A41: Kindy | B41: 120 | C41: 1875 | D41: 1875 | F41: 1875 | G41: Keep same. $25/student plus $250 for bus cost. Using 65 headcount per grade. Budgeted the same for each grade, knowing HC will differ among grades. Expect some grades might go over budget, others may be under budget. Also, $250 bus budget may be low, however $25/student is high so it should even out.
...

Sheet P&L Summary to Date
A1: Fir Grove PTO
A2: Profit and Loss
A3: July 1, 2022 - May 9, 2023
B5: Total
A6: Income
A7: 5th Grade Send Off (Income) | B7: =407.2 -> 407.2
A8: Book Fair Sales | B8: =2903.85 -> 2903.85
A9: BottleDrop | B9: =1900+700 -> 2600
A10: Box Tops (Income) | B10: =124.9 -> 124.9
A11: Fun Run (Income) | B11: =29328.72 -> 29328.72
A12: Member/Misc (Donations) | B12: =1746.05 -> 1746.05
A13: Music & School Concert Fundraising | B13: =249.55 -> 249.55
A14: Restaurant / Retail Fundraisers | B14: =990.39+1711.5 -> 2701.89
A15: Rewards Programs (Donations) | B15: 965.74
A16: School Supplies (Income) | B16: =7369.83 -> 7369.83
A17: Staff Appreciation Donations | B17: =233.33 -> 233.33
A18: Total Income | B18: =SUM(B7:B17) -> 48631.06
A19: Gross Profit | B19: =(B18)-(0) -> 48631.06
A20: Expenses
A21: 5th Grade Send Off (Expenses) | B21: =500 -> 500
A22: Art Literacy | B22: =548.55 -> 548.55
A23: Assemblies | B23: =800 -> 800
A24: Battle of the Books | B24: =1248.32 -> 1248.32
A25: Book Fair Profit Expenses | B25: =286 -> 286
A26: Book Room | B26: =275.2 -> 275.2
A27: Class Parties | B27: =654.4 -> 654.4
A28: Clothes Closet Donation | B28: =250 -> 250
A29: Dues & Subscriptions | B29: =190.34 -> 190.34
A30: Emergency Supplies | B30: =101.92 -> 101.92
A31: Family Events - Donuts w/grownup / School Dance Etc | B31: =719.17 -> 719.17
A32: Field Day | B32: =47.94 -> 47.94
A33: Field Trips | B33: =0 -> 0
A34: 1st Grade | B34: =354.9 -> 354.9
A35: 2nd Grade | B35: =848.2 -> 848.2
A36: 3rd Grade | B36: =384.9 -> 384.9
A37: 4th Grade | B37: =406.15 -> 406.15
A38: 5th Grade | B38: =450 -> 450
A39: Kindy | B39: =120 -> 120
A40: Total Field Trips | B40: =((((((B33)+(B34))+(B35))+(B36))+(B37))+(B38))+(B39) -> 2564.15
A41: Fun Run (Expenses) | B41: =4710.63 -> 4710.63
...

Sheet Current Monthly P&L 
A1: Fir Grove PTO
A2: Profit and Loss
A3: July 1, 2022 - May 9, 2023
B5: Jul 2022 | C5: Aug 2022 | D5: Sep 2022 | E5: Oct 2022 | F5: Nov 2022 | G5: Dec 2022 | H5: Jan 2023 | I5: Feb 2023 | J5: Mar 2023 | K5: Apr 2023 | L5: May 1-9, 2023 | M5: Total
A6: Income
A7: 5th Grade Send Off (Income) | B7: =0 -> 0 | C7: =0 -> 0 | D7: =0 -> 0 | E7: =0 -> 0 | F7: =0 -> 0 | G7: =0 -> 0 | H7: =0 -> 0 | I7: =0 -> 0 | J7: =407.2 -> 407.2 | K7: =0 -> 0 | L7: =0 -> 0 | M7: =((((((((((B7)+(C7))+(D7))+(E7))+(F7))+(G7))+(H7))+(I7))+(J7))+(K7))+(L7) -> 407.2
A8: Book Fair Sales | B8: =0 -> 0 | C8: =0 -> 0 | D8: =0 -> 0 | E8: =2670.21 -> 2670.21 | F8: =-1252.38 -> -1252.38 | G8: =0 -> 0 | H8: =0 -> 0 | I8: =0 -> 0 | J8: =0 -> 0 | K8: =0 -> 0 | L8: =1486.02 -> 1486.02 | M8: =((((((((((B8)+(C8))+(D8))+(E8))+(F8))+(G8))+(H8))+(I8))+(J8))+(K8))+(L8) -> 2903.85
A9: BottleDrop | B9: =0 -> 0 | C9: =0 -> 0 | D9: =0 -> 0 | E9: =0 -> 0 | F9: =0 -> 0 | G9: =0 -> 0 | H9: =1900 -> 1900 | I9: =0 -> 0 | J9: =0 -> 0 | K9: =0 -> 0 | L9: 700 | M9: =((((((((((B9)+(C9))+(D9))+(E9))+(F9))+(G9))+(H9))+(I9))+(J9))+(K9))+(L9) -> 2600
A10: Box Tops (Income) | B10: =0 -> 0 | C10: =0 -> 0 | D10: =0 -> 0 | E10: =0 -> 0 | F10: =0 -> 0 | G10: =0 -> 0 | H10: =124.9 -> 124.9 | I10: =0 -> 0 | J10: =0 -> 0 | K10: =0 -> 0 | L10: =0 -> 0 | M10: =((((((((((B10)+(C10))+(D10))+(E10))+(F10))+(G10))+(H10))+(I10))+(J10))+(K10))+(L10) -> 124.9
A11: Fun Run (Income) | B11: =0 -> 0 | C11: =0 -> 0 | D11: =0 -> 0 | E11: =2402.56 -> 2402.56 | F11: =26780.51 -> 26780.51 | G11: =145.65 -> 145.65 | H11: =0 -> 0 | I11: =0 -> 0 | J11: =0 -> 0 | K11: =0 -> 0 | L11: =0 -> 0 | M11: =((((((((((B11)+(C11))+(D11))+(E11))+(F11))+(G11))+(H11))+(I11))+(J11))+(K11))+(L11) -> 29328.72
A12: Member/Misc (Donations) | B12: =0 -> 0 | C12: =0 -> 0 | D12: =0 -> 0 | E12: =20 -> 20 | F12: =148.01 -> 148.01 | G12: =625 -> 625 | H12: =700 -> 700 | I12: =150 -> 150 | J12: =51.52 -> 51.52 | K12: =51.52 -> 51.52 | L12: =0 -> 0 | M12: =((((((((((B12)+(C12))+(D12))+(E12))+(F12))+(G12))+(H12))+(I12))+(J12))+(K12))+(L12) -> 1746.05
A13: Music & School Concert Fundraising | B13: =0 -> 0 | C13: =0 -> 0 | D13: =0 -> 0 | E13: =0 -> 0 | F13: =0 -> 0 | G13: =0 -> 0 | H13: =0 -> 0 | I13: =0 -> 0 | J13: =249.55 -> 249.55 | K13: =0 -> 0 | L13: =0 -> 0 | M13: =((((((((((B13)+(C13))+(D13))+(E13))+(F13))+(G13))+(H13))+(I13))+(J13))+(K13))+(L13) -> 249.55
A14: Restaurant / Retail Fundraisers | B14: =0 -> 0 | C14: =0 -> 0 | D14: =0 -> 0 | E14: =0 -> 0 | F14: =0 -> 0 | G14: =0 -> 0 | H14: =233.95 -> 233.95 | I14: =0 -> 0 | J14: =0 -> 0 | K14: =0 -> 0 | L14: =756.44+1711.5 -> 2467.94 | M14: =((((((((((B14)+(C14))+(D14))+(E14))+(F14))+(G14))+(H14))+(I14))+(J14))+(K14))+(L14) -> 2701.89
A15: Rewards Programs (Donations) | B15: =0 -> 0 | C15: =0 -> 0 | D15: =0 -> 0 | E15: =0 -> 0 | F15: =0 -> 0 | G15: =0 -> 0 | H15: =0 -> 0 | I15: =0 -> 0 | ... L15: =0 -> 0 | M15: =((((((((((B15)+(C15))+(D15))+(E15))+(F15))+(G15))+(H15))+(I15))+(J15))+(K15))+(L15) -> 0
A16: AmazonSmile | B16: =0 -> 0 | C16: =0 -> 0 | D16: =148.45 -> 148.45 | E16: =0 -> 0 | F16: =120.71 -> 120.71 | G16: =0 -> 0 | H16: =0 -> 0 | I16: =157.13 -> 157.13 | J16: =0 -> 0 | K16: =0 -> 0 | L16: =79.64 -> 79.64 | M16: =((((((((((B16)+(C16))+(D16))+(E16))+(F16))+(G16))+(H16))+(I16))+(J16))+(K16))+(L16) -> 505.93
A17: Kroger Rewards (Fred Meyer) | B17: =0 -> 0 | C17: =0 -> 0 | D17: =109.81 -> 109.81 | E17: =0 -> 0 | F17: =108.22 -> 108.22 | G17: =0 -> 0 | H17: =0 -> 0 | I17: =118.33 -> 118.33 | J17: =0 -> 0 | K17: =0 -> 0 | L17: =123.45 -> 123.45 | M17: =((((((((((B17)+(C17))+(D17))+(E17))+(F17))+(G17))+(H17))+(I17))+(J17))+(K17))+(L17) -> 459.81
A18: Total Rewards Programs (Donations) | B18: =((B15)+(B16))+(B17) -> 0 | C18: =((C15)+(C16))+(C17) -> 0 | D18: =((D15)+(D16))+(D17) -> 258.26 | E18: =((E15)+(E16))+(E17) -> 0 | F18: =((F15)+(F16))+(F17) -> 228.93 | G18: =((G15)+(G16))+(G17) -> 0 | H18: =((H15)+(H16))+(H17) -> 0 | I18: =((I15)+(I16))+(I17) -> 275.46 | ... L18: =((L15)+(L16))+(L17) -> 203.09 | M18: =((((((((((B18)+(C18))+(D18))+(E18))+(F18))+(G18))+(H18))+(I18))+(J18))+(K18))+(L18) -> 965.74
A19: School Supplies (Income) | B19: =0 -> 0 | C19: =0 -> 0 | D19: =7369.83 -> 7369.83 | E19: =0 -> 0 | F19: =0 -> 0 | G19: =0 -> 0 | H19: =0 -> 0 | I19: =0 -> 0 | J19: =0 -> 0 | K19: =0 -> 0 | L19: =0 -> 0 | M19: =((((((((((B19)+(C19))+(D19))+(E19))+(F19))+(G19))+(H19))+(I19))+(J19))+(K19))+(L19) -> 7369.83
A20: Staff Appreciation Donations | B20: =0 -> 0 | C20: =0 -> 0 | D20: =0 -> 0 | E20: =0 -> 0 | F20: =0 -> 0 | G20: =0 -> 0 | H20: =0 -> 0 | I20: =0 -> 0 | ... K20: =0 -> 0 | L20: =233.33 -> 233.33 | M20: =((((((((((B20)+(C20))+(D20))+(E20))+(F20))+(G20))+(H20))+(I20))+(J20))+(K20))+(L20) -> 233.33
A21: Total Income | B21: =((((((((((B7)+(B8))+(B9))+(B10))+(B11))+(B12))+(B13))+(B14))+(B18))+(B19))+(B20) -> 0 | C21: =((((((((((C7)+(C8))+(C9))+(C10))+(C11))+(C12))+(C13))+(C14))+(C18))+(C19))+(C20) -> 0 | D21: =((((((((((D7)+(D8))+(D9))+(D10))+(D11))+(D12))+(D13))+(D14))+(D18))+(D19))+(D20) -> 7628.09 | E21: =((((((((((E7)+(E8))+(E9))+(E10))+(E11))+(E12))+(E13))+(E14))+(E18))+(E19))+(E20) -> 5092.77 | F21: =((((((((((F7)+(F8))+(F9))+(F10))+(F11))+(F12))+(F13))+(F14))+(F18))+(F19))+(F20) -> 25905.07 | G21: =((((((((((G7)+(G8))+(G9))+(G10))+(G11))+(G12))+(G13))+(G14))+(G18))+(G19))+(G20) -> 770.65 | H21: =((((((((((H7)+(H8))+(H9))+(H10))+(H11))+(H12))+(H13))+(H14))+(H18))+(H19))+(H20) -> 2958.85 | I21: =((((((((((I7)+(I8))+(I9))+(I10))+(I11))+(I12))+(I13))+(I14))+(I18))+(I19))+(I20) -> 425.46 | ... L21: =((((((((((L7)+(L8))+(L9))+(L10))+(L11))+(L12))+(L13))+(L14))+(L18))+(L19))+(L20) -> 5090.38 | M21: =((((((((((B21)+(C21))+(D21))+(E21))+(F21))+(G21))+(H21))+(I21))+(J21))+(K21))+(L21) -> 48631.06
A22: Gross Profit | B22: =(B21)-(0) -> 0 | C22: =(C21)-(0) -> 0 | D22: =(D21)-(0) -> 7628.09 | E22: =(E21)-(0) -> 5092.77 | F22: =(F21)-(0) -> 25905.07 | G22: =(G21)-(0) -> 770.65 | H22: =(H21)-(0) -> 2958.85 | I22: =(I21)-(0) -> 425.46 | ... L22: =(L21)-(0) -> 5090.38 | M22: =((((((((((B22)+(C22))+(D22))+(E22))+(F22))+(G22))+(H22))+(I22))+(J22))+(K22))+(L22) -> 48631.06
A23: Expenses
A24: 5th Grade Send Off (Expenses) | B24: =0 -> 0 | C24: =0 -> 0 | D24: =0 -> 0 | E24: =0 -> 0 | F24: =0 -> 0 | G24: =0 -> 0 | H24: =0 -> 0 | I24: =0 -> 0 | J24: =0 -> 0 | K24: =500 -> 500 | L24: =0 -> 0 | M24: =((((((((((B24)+(C24))+(D24))+(E24))+(F24))+(G24))+(H24))+(I24))+(J24))+(K24))+(L24) -> 500
A25: Art Literacy | B25: =0 -> 0 | C25: =0 -> 0 | D25: =0 -> 0 | E25: =0 -> 0 | F25: =150 -> 150 | G25: =0 -> 0 | H25: =0 -> 0 | I25: =0 -> 0 | J25: =0 -> 0 | K25: =0 -> 0 | L25: =398.55 -> 398.55 | M25: =((((((((((B25)+(C25))+(D25))+(E25))+(F25))+(G25))+(H25))+(I25))+(J25))+(K25))+(L25) -> 548.55
A26: Assemblies | B26: =0 -> 0 | C26: =0 -> 0 | D26: =0 -> 0 | E26: =0 -> 0 | F26: =0 -> 0 | G26: =0 -> 0 | H26: =0 -> 0 | I26: =0 -> 0 | J26: =0 -> 0 | K26: =800 -> 800 | L26: =0 -> 0 | M26: =((((((((((B26)+(C26))+(D26))+(E26))+(F26))+(G26))+(H26))+(I26))+(J26))+(K26))+(L26) -> 800
A27: Battle of the Books | B27: =0 -> 0 | C27: =0 -> 0 | D27: =65 -> 65 | E27: =0 -> 0 | F27: =0 -> 0 | G27: =858.05 -> 858.05 | H27: =0 -> 0 | I27: =283.54 -> 283.54 | J27: =0 -> 0 | K27: =0 -> 0 | L27: =41.73 -> 41.73 | M27: =((((((((((B27)+(C27))+(D27))+(E27))+(F27))+(G27))+(H27))+(I27))+(J27))+(K27))+(L27) -> 1248.32
A28: Book Fair Profit Expenses | B28: =0 -> 0 | C28: =0 -> 0 | D28: =0 -> 0 | E28: =0 -> 0 | F28: =0 -> 0 | G28: =0 -> 0 | H28: =286 -> 286 | I28: =0 -> 0 | J28: =0 -> 0 | K28: =0 -> 0 | L28: =0 -> 0 | M28: =((((((((((B28)+(C28))+(D28))+(E28))+(F28))+(G28))+(H28))+(I28))+(J28))+(K28))+(L28) -> 286
A29: Book Room | B29: =0 -> 0 | C29: =0 -> 0 | D29: =0 -> 0 | E29: =0 -> 0 | F29: =0 -> 0 | G29: =211.2 -> 211.2 | H29: =0 -> 0 | I29: =0 -> 0 | J29: =64 -> 64 | K29: =0 -> 0 | L29: =0 -> 0 | M29: =((((((((((B29)+(C29))+(D29))+(E29))+(F29))+(G29))+(H29))+(I29))+(J29))+(K29))+(L29) -> 275.2
A30: Class Parties | B30: =0 -> 0 | C30: =0 -> 0 | D30: =0 -> 0 | E30: =0 -> 0 | F30: =273.04 -> 273.04 | G30: =0 -> 0 | H30: =64.95 -> 64.95 | I30: =238.38 -> 238.38 | J30: =0 -> 0 | K30: =0 -> 0 | L30: =78.03 -> 78.03 | M30: =((((((((((B30)+(C30))+(D30))+(E30))+(F30))+(G30))+(H30))+(I30))+(J30))+(K30))+(L30) -> 654.4
A31: Clothes Closet Donation | B31: =0 -> 0 | C31: =0 -> 0 | D31: =250 -> 250 | E31: =0 -> 0 | F31: =0 -> 0 | G31: =0 -> 0 | H31: =0 -> 0 | I31: =0 -> 0 | J31: =0 -> 0 | K31: =0 -> 0 | L31: =0 -> 0 | M31: =((((((((((B31)+(C31))+(D31))+(E31))+(F31))+(G31))+(H31))+(I31))+(J31))+(K31))+(L31) -> 250
A32: Dues & Subscriptions | B32: =0 -> 0 | C32: =0 -> 0 | D32: =0 -> 0 | E32: =41.34 -> 41.34 | F32: =149 -> 149 | G32: =0 -> 0 | H32: =0 -> 0 | I32: =0 -> 0 | J32: =0 -> 0 | K32: =0 -> 0 | L32: =0 -> 0 | M32: =((((((((((B32)+(C32))+(D32))+(E32))+(F32))+(G32))+(H32))+(I32))+(J32))+(K32))+(L32) -> 190.34
A33: Emergency Supplies | B33: =0 -> 0 | C33: =0 -> 0 | D33: =101.92 -> 101.92 | E33: =0 -> 0 | F33: =0 -> 0 | G33: =0 -> 0 | H33: =0 -> 0 | I33: =0 -> 0 | J33: =0 -> 0 | K33: =0 -> 0 | L33: =0 -> 0 | M33: =((((((((((B33)+(C33))+(D33))+(E33))+(F33))+(G33))+(H33))+(I33))+(J33))+(K33))+(L33) -> 101.92
A34: Family Events - Donuts w/grownup / School Dance Etc | B34: =0 -> 0 | C34: =0 -> 0 | D34: =0 -> 0 | E34: =0 -> 0 | F34: =0 -> 0 | G34: =408.72 -> 408.72 | H34: =0 -> 0 | I34: =100 -> 100 | J34: =51.96 -> 51.96 | K34: =0 -> 0 | L34: =158.49 -> 158.49 | M34: =((((((((((B34)+(C34))+(D34))+(E34))+(F34))+(G34))+(H34))+(I34))+(J34))+(K34))+(L34) -> 719.17
A35: Field Day | B35: =0 -> 0 | C35: =0 -> 0 | D35: =0 -> 0 | E35: =0 -> 0 | F35: =0 -> 0 | G35: =0 -> 0 | H35: =0 -> 0 | I35: =0 -> 0 | ... K35: =0 -> 0 | L35: =47.94 -> 47.94 | M35: =((((((((((B35)+(C35))+(D35))+(E35))+(F35))+(G35))+(H35))+(I35))+(J35))+(K35))+(L35) -> 47.94
A36: Field Trips | B36: =0 -> 0 | C36: =0 -> 0 | D36: =0 -> 0 | E36: =0 -> 0 | F36: =0 -> 0 | G36: =0 -> 0 | H36: =0 -> 0 | I36: =0 -> 0 | ... L36: =0 -> 0 | M36: =((((((((((B36)+(C36))+(D36))+(E36))+(F36))+(G36))+(H36))+(I36))+(J36))+(K36))+(L36) -> 0
A37: 1st Grade | B37: =0 -> 0 | C37: =0 -> 0 | D37: =0 -> 0 | E37: =0 -> 0 | F37: =0 -> 0 | G37: =0 -> 0 | H37: =0 -> 0 | I37: =0 -> 0 | J37: =354.9 -> 354.9 | K37: =0 -> 0 | L37: =0 -> 0 | M37: =((((((((((B37)+(C37))+(D37))+(E37))+(F37))+(G37))+(H37))+(I37))+(J37))+(K37))+(L37) -> 354.9
A38: 2nd Grade | B38: =0 -> 0 | C38: =0 -> 0 | D38: =210.15 -> 210.15 | E38: =0 -> 0 | F38: =0 -> 0 | G38: =0 -> 0 | H38: =0 -> 0 | I38: =409.9 -> 409.9 | J38: =0 -> 0 | K38: =228.15 -> 228.15 | L38: =0 -> 0 | M38: =((((((((((B38)+(C38))+(D38))+(E38))+(F38))+(G38))+(H38))+(I38))+(J38))+(K38))+(L38) -> 848.2
A39: 3rd Grade | B39: =0 -> 0 | C39: =0 -> 0 | D39: =0 -> 0 | E39: =0 -> 0 | F39: =0 -> 0 | G39: =0 -> 0 | H39: =0 -> 0 | I39: =0 -> 0 | ... K39: =0 -> 0 | L39: =384.9 -> 384.9 | M39: =((((((((((B39)+(C39))+(D39))+(E39))+(F39))+(G39))+(H39))+(I39))+(J39))+(K39))+(L39) -> 384.9
A40: 4th Grade | B40: =0 -> 0 | C40: =0 -> 0 | D40: =336.15 -> 336.15 | E40: =0 -> 0 | F40: =0 -> 0 | G40: =70 -> 70 | H40: =0 -> 0 | I40: =0 -> 0 | J40: =0 -> 0 | K40: =0 -> 0 | L40: =0 -> 0 | M40: =((((((((((B40)+(C40))+(D40))+(E40))+(F40))+(G40))+(H40))+(I40))+(J40))+(K40))+(L40) -> 406.15
A41: 5th Grade | B41: =0 -> 0 | C41: =0 -> 0 | D41: =0 -> 0 | E41: =0 -> 0 | F41: =0 -> 0 | G41: =0 -> 0 | H41: =0 -> 0 | I41: =0 -> 0 | J41: =0 -> 0 | K41: =450 -> 450 | L41: =0 -> 0 | M41: =((((((((((B41)+(C41))+(D41))+(E41))+(F41))+(G41))+(H41))+(I41))+(J41))+(K41))+(L41) -> 450
...

Sheet P&L Past Yrs
A1: Fir Grove PTO
A2: Profit and Loss
A3: July 1, 2017 - May 9, 2023
B4: Jul 2017 - Jun 2018 | C4: Jul 2018 - Jun 2019 | D4: Jul 2019 - Jun 2020 | E4: Jul 2020 - Jun 2021 | F4: Jul 2021 - Jun 2022 | G4: Jul 22 - May 9, 2023
A5: Income
A6: 5th Grade Send Off (Income) | B6: =2592.77 -> 2592.77 | C6: =0 -> 0 | D6: =1699.31 -> 1699.31 | E6: =2423 -> 2423 | F6: =0 -> 0 | G6: =407.2 -> 407.2
A7: Holiday-o-grams (Income) | B7: =0 -> 0 | C7: =0 -> 0 | D7: =260.8 -> 260.8 | E7: =0 -> 0 | F7: =0 -> 0 | G7: =0 -> 0
A8: Total 5th Grade Send Off (Income) | B8: =(B6)+(B7) -> 2592.77 | C8: =(C6)+(C7) -> 0 | D8: =(D6)+(D7) -> 1960.11 | E8: =(E6)+(E7) -> 2423 | F8: =(F6)+(F7) -> 0 | G8: =(G6)+(G7) -> 407.2
A9: Accounting Adjustment | B9: =0 -> 0 | C9: =0 -> 0 | D9: =0 -> 0 | E9: =0 -> 0 | F9: =0 -> 0 | G9: =0 -> 0
A10: Battle of the Books (Income) | B10: =50 -> 50 | C10: =44 -> 44 | D10: =29 -> 29 | E10: =0 -> 0 | F10: =0 -> 0 | G10: =0 -> 0
A11: Book Fair Sales | B11: =0 -> 0 | C11: =0 -> 0 | D11: =0 -> 0 | E11: =0 -> 0 | F11: =3901.52 -> 3901.52 | G11: =2903.85 -> 2903.85
A12: BottleDrop | B12: =0 -> 0 | C12: =0 -> 0 | D12: =2275 -> 2275 | E12: =0 -> 0 | F12: =2000 -> 2000 | G12: =1900+700 -> 2600
A13: Box Tops (Income) | B13: =987.8 -> 987.8 | C13: =634.3 -> 634.3 | D13: =434.7 -> 434.7 | E13: =173.4 -> 173.4 | F13: =177.1 -> 177.1 | G13: =124.9 -> 124.9
A14: Boy Scouts (Deposits) | B14: =2877.5 -> 2877.5 | C14: =1686.3 -> 1686.3 | D14: =0 -> 0 | E14: =340 -> 340 | F14: =0 -> 0 | G14: =0 -> 0
A15: Community Fundraiser - Donations Received | B15: =0 -> 0 | C15: =0 -> 0 | D15: =0 -> 0 | E15: =0 -> 0 | F15: =1114.15 -> 1114.15 | G15: =0 -> 0
A16: Donation (For Food) | B16: =0 -> 0 | C16: =0 -> 0 | D16: =1575 -> 1575 | E16: =218.35 -> 218.35 | F16: =0 -> 0 | G16: =0 -> 0
A17: Fun Run (Income) | B17: =30280.69 -> 30280.69 | C17: =26541.02 -> 26541.02 | D17: =27929.22 -> 27929.22 | E17: =12022.91 -> 12022.91 | F17: =26221.75 -> 26221.75 | G17: =29328.72 -> 29328.72
A18: In Kind/Employer Match (Donations) | B18: =145 -> 145 | C18: =1372.6 -> 1372.6 | D18: =2166.93 -> 2166.93 | E18: =3094.45 -> 3094.45 | F18: =0 -> 0 | G18: =0 -> 0
A19: Member/Misc (Donations) | B19: =0.54 -> 0.54 | C19: =1183.46 -> 1183.46 | D19: =313.05 -> 313.05 | E19: =1327.23 -> 1327.23 | F19: =2146.29 -> 2146.29 | G19: =1746.05 -> 1746.05
A20: Music & School Concert Fundraising | B20: =0 -> 0 | C20: =0 -> 0 | D20: =0 -> 0 | E20: =0 -> 0 | F20: =0 -> 0 | G20: =249.55 -> 249.55
A21: Non-Profit Income | B21: =196 -> 196 | C21: =0 -> 0 | D21: =0 -> 0 | E21: =0 -> 0 | F21: =0 -> 0 | G21: =0 -> 0
A22: Other Miscellaneous | B22: =6913.18 -> 6913.18 | C22: =0 -> 0 | D22: =0 -> 0 | E22: =0 -> 0 | F22: =0 -> 0 | G22: =0 -> 0
A23: Penny Drive (Income) | B23: =1302.52 -> 1302.52 | C23: =861.87 -> 861.87 | D23: =636.64 -> 636.64 | E23: =0 -> 0 | F23: =0 -> 0 | G23: =0 -> 0
A24: Restaurant / Retail Fundraisers | B24: =0 -> 0 | C24: =1077.63 -> 1077.63 | D24: =217.04 -> 217.04 | E24: =0 -> 0 | F24: =231.14 -> 231.14 | G24: =990.39+1711.5 -> 2701.89
A25: Rewards Programs (Donations) | B25: =112.99 -> 112.99 | C25: =714.36 -> 714.36 | D25: =1328.09 -> 1328.09 | E25: =913.38 -> 913.38 | F25: =995.1 -> 995.1 | G25: =0 -> 0
A26: AmazonSmile | B26: =0 -> 0 | C26: =0 -> 0 | D26: =0 -> 0 | E26: =0 -> 0 | F26: =0 -> 0 | G26: =505.93 -> 505.93
A27: Kroger Rewards (Fred Meyer) | B27: =0 -> 0 | C27: =0 -> 0 | D27: =0 -> 0 | E27: =0 -> 0 | F27: =0 -> 0 | G27: =459.81 -> 459.81
A28: Total Rewards Programs (Donations) | B28: =((B25)+(B26))+(B27) -> 112.99 | C28: =((C25)+(C26))+(C27) -> 714.36 | D28: =((D25)+(D26))+(D27) -> 1328.09 | E28: =((E25)+(E26))+(E27) -> 913.38 | F28: =((F25)+(F26))+(F27) -> 995.1 | G28: =((G25)+(G26))+(G27) -> 965.74
A29: Richard B. Siegel Grant (income) | B29: =5200 -> 5200 | C29: =0 -> 0 | D29: =0 -> 0 | E29: =0 -> 0 | F29: =0 -> 0 | G29: =0 -> 0
A30: School Supplies (Income) | B30: =4934.41 -> 4934.41 | C30: =6554.02 -> 6554.02 | D30: =4426.05 -> 4426.05 | E30: =7020.2 -> 7020.2 | F30: =9324.77 -> 9324.77 | G30: =7369.83 -> 7369.83
A31: Science Fair (Income) | B31: =526.8 -> 526.8 | C31: =388 -> 388 | D31: =0 -> 0 | E31: =0 -> 0 | F31: =654.25 -> 654.25 | G31: =0 -> 0
A32: Shadow Project | B32: =0 -> 0 | C32: =0 -> 0 | D32: =200 -> 200 | E32: =0 -> 0 | F32: =0 -> 0 | G32: =0 -> 0
A33: Spirit Wear (Income) | B33: =55 -> 55 | C33: =0 -> 0 | D33: =0 -> 0 | E33: =0 -> 0 | F33: =0 -> 0 | G33: =0 -> 0
A34: Staff Appreciation Donations | B34: =0 -> 0 | C34: =0 -> 0 | D34: =0 -> 0 | E34: =0 -> 0 | F34: =1346.36 -> 1346.36 | G34: =233.33 -> 233.33
A35: Total Income | B35: =(((((((((((((((((((((((B8)+(B9))+(B10))+(B11))+(B12))+(B13))+(B14))+(B15))+(B16))+(B17))+(B18))+(B19))+(B20))+(B21))+(B22))+(B23))+(B24))+(B28))+(B29))+(B30))+(B31))+(B32))+(B33))+(B34) -> 56175.2 | C35: =(((((((((((((((((((((((C8)+(C9))+(C10))+(C11))+(C12))+(C13))+(C14))+(C15))+(C16))+(C17))+(C18))+(C19))+(C20))+(C21))+(C22))+(C23))+(C24))+(C28))+(C29))+(C30))+(C31))+(C32))+(C33))+(C34) -> 41057.56 | D35: =(((((((((((((((((((((((D8)+(D9))+(D10))+(D11))+(D12))+(D13))+(D14))+(D15))+(D16))+(D17))+(D18))+(D19))+(D20))+(D21))+(D22))+(D23))+(D24))+(D28))+(D29))+(D30))+(D31))+(D32))+(D33))+(D34) -> 43490.83 | E35: =(((((((((((((((((((((((E8)+(E9))+(E10))+(E11))+(E12))+(E13))+(E14))+(E15))+(E16))+(E17))+(E18))+(E19))+(E20))+(E21))+(E22))+(E23))+(E24))+(E28))+(E29))+(E30))+(E31))+(E32))+(E33))+(E34) -> 27532.92 | F35: =(((((((((((((((((((((((F8)+(F9))+(F10))+(F11))+(F12))+(F13))+(F14))+(F15))+(F16))+(F17))+(F18))+(F19))+(F20))+(F21))+(F22))+(F23))+(F24))+(F28))+(F29))+(F30))+(F31))+(F32))+(F33))+(F34) -> 48112.43 | G35: =(((((((((((((((((((((((G8)+(G9))+(G10))+(G11))+(G12))+(G13))+(G14))+(G15))+(G16))+(G17))+(G18))+(G19))+(G20))+(G21))+(G22))+(G23))+(G24))+(G28))+(G29))+(G30))+(G31))+(G32))+(G33))+(G34) -> 48631.06
A36: Gross Profit | B36: =(B35)-(0) -> 56175.2 | C36: =(C35)-(0) -> 41057.56 | D36: =(D35)-(0) -> 43490.83 | E36: =(E35)-(0) -> 27532.92 | F36: =(F35)-(0) -> 48112.43 | G36: =(G35)-(0) -> 48631.06
A37: Expenses
A38: 5th Grade Send Off (Expenses) | B38: =1912.77 -> 1912.77 | C38: =0 -> 0 | D38: =1774.84 -> 1774.84 | E38: =2165.75 -> 2165.75 | F38: =1461.7 -> 1461.7 | G38: =500 -> 500
A39: Accounting Adjustment Expense | B39: =4217 -> 4217 | C39: =0 -> 0 | D39: =0 -> 0 | E39: =0 -> 0 | F39: =0 -> 0 | G39: =0 -> 0
A40: Art Literacy | B40: =1504.45 -> 1504.45 | C40: =1499.51 -> 1499.51 | D40: =1501.21 -> 1501.21 | E40: =477.08 -> 477.08 | F40: =248.5 -> 248.5 | G40: =548.55 -> 548.55
...

Sheet Income
A2: ='P&L Summary to Date'!A6 -> Income
A3: ='P&L Summary to Date'!A7 -> 5th Grade Send Off (Income) | B3: 200
A4: ='P&L Summary to Date'!A8 -> Book Fair Sales | B4: 3000
A5: ='P&L Summary to Date'!A9 -> BottleDrop | B5: 2200
A6: ='P&L Summary to Date'!A10 -> Box Tops (Income) | B6: 50
A7: ='P&L Summary to Date'!A11 -> Fun Run (Income) | B7: 25000
A8: ='P&L Summary to Date'!A12 -> Member/Misc (Donations) | B8: 2000
A9: ='P&L Summary to Date'!A13 -> Music & School Concert Fundraising | B9: 200
A10: ='P&L Summary to Date'!A14 -> Restaurant / Retail Fundraisers | B10: 750
A11: ='P&L Summary to Date'!A15 -> Rewards Programs (Donations) | B11: 450
A12: ='P&L Summary to Date'!A16 -> School Supplies (Income) | B12: 7000
A13: Science Expo | B13: 500
A14: ='P&L Summary to Date'!A17 -> Staff Appreciation Donations | B14: 300
A15: ='P&L Summary to Date'!A18 -> Total Income | B15: ='P&L Summary to Date'!B18 -> 48631.06

Sheet Expenses
A3: Assemblies | B3: Assemblies | C3: 2000 | F3: Field Trips | G3: =SUMIF(B1:B42,"Field Trips",C1:C42) -> 11250
A4: 5th Grade Send Off (Expenses) | B4: Class Parties | C4: 1500 | F4: School Supplies | G4: =SUMIF(B1:B42,"School Supplies",C1:C42) -> 7300
A5: Class Parties | B5: Class Parties | C5: 2550 | F5: Teacher Supplies | G5: =SUMIF(B1:B42,"Teacher Supplies",C1:C42) -> 8500
A6: Boohoo Woohoo (welcome new families) | B6: Community Events | C6: 100 | F6: Enrichment Programs | G6: =SUMIF(B1:B42,"Enrichment Programs",C1:C42) -> 7980
A7: Family Events - Donut w/GrownUp/Dance | B7: Community Events | C7: 750 | F7: Fun Run | G7: =SUMIF(B1:B42,"Fun Run",C1:C42) -> 5250
A8: Meet Your Teacher | B8: Community Events | C8: 150 | F8: Class Parties | G8: =SUMIF(B1:B42,"Class Parties",C1:C42) -> 4050
A9: Science Expo | B9: Community Events | C9: 600 | F9: Staff Support | G9: =SUMIF(B1:B42,"Staff Support",C1:C42) -> 2150
A10: Art Literacy | B10: Enrichment Programs | C10: 1000 | F10: PTO Admin | G10: =SUMIF(B2:B43,"PTO Admin",C2:C43) -> 1630
A11: Battle of the Books | B11: Enrichment Programs | C11: 1500 | F11: Assemblies | G11: =SUMIF(B3:B44,"Assemblies",C3:C44) -> 2000
A12: Book Room | B12: Enrichment Programs | C12: 500 | F12: Community Events | G12: =SUMIF(B4:B45,"Community Events",C4:C45) -> 1600
A13: Brain Pop (Peterson) | B13: Enrichment Programs | C13: 230 | F13: Other | G13: =SUMIF(B5:B46,"Other",C5:C46) -> 1250
A14: Concerts / Music Room Supplies | B14: Enrichment Programs | C14: 3250
A15: Field Day (Villegas) | B15: Enrichment Programs | C15: 200 | F15: Grand Total | G15: =SUM(G3:G14) -> 52960
A16: Garden Area/Green Team | B16: Enrichment Programs | C16: 250
A17: Scholastic (3rd Grade) | B17: Enrichment Programs | C17: 425
A18: Scholastic (5th Grade) | B18: Enrichment Programs | C18: 475
A19: Wellness (SEL) Center | B19: Enrichment Programs | C19: 150
A20: Field Trips | B20: Field Trips | C20: =1875*6 -> 11250
A21: Fun Run - Pledgestar fees | B21: Fun Run | C21: 1000
A22: Fun Run supplies, prizes, and T-shirts | B22: Fun Run | C22: 4250
A23: Clothes Closet Donation | B23: Other | C23: 250
A24: Unbudgeted Expense | B24: Other | C24: 1000
A25: Dry Cleaining (Furry Grover) | B25: PTO Admin | C25: 50
A26: Dues & Subscriptions | B26: PTO Admin | C26: 500
A27: Insurance | B27: PTO Admin | C27: 340
A28: PTO Meetings | B28: PTO Admin | C28: 250
A29: PTO Supplies | B29: PTO Admin | C29: 350
A30: Taxes & Licenses | B30: PTO Admin | C30: 140
A31: Emergency Buckets | B31: School Supplies | C31: 100
A32: School Supplies | B32: School Supplies | C32: 7000
... A37: Teacher Supplies | B37: Teacher Supplies | C37: 8500
A38: Expenses
A39: Restaurant Nights (PE)
A40: Restaurant Nights (Music)
A41: Restaurant Nights (Tech)
A42: Restaurant Nights (Library) (carryover from 2020-2021 year)
A44: Total Expenses | C44: =SUM(C3:C43) -> 52960

Sheet Sheet1
B2: Jul | C2: Aug | D2: Sept | E2: Oct | F2: Nov | G2: Dec | H2: Jan | I2: Feb | J2: Mar | K2: Apr | L2: May | M2: 44713 | N2: YTD | O2: Budget
A3: Income
A4: 5th Grade Send Off (flow-thru) | J4: =407.2 -> 407.2 | N4: 407.2 | O4: 0
A5: Book Fair Cash Sales (Flow-thru) | E5: =2782+88.21 -> 2870.21 | F5: -1252.38 | L5: =2921.92-1435.9 -> 1486.02 | N5: 3103.85 | O5: 4000
A6: Bottle Drop | H6: 1900 | L6: 700 | N6: 2600 | O6: 2000
A7: Box Tops | H7: 124.9 | N7: 124.9 | O7: 0
A8: Boy Scouts (flow thru - donations earmarked for Scouts) | N8: 0 | O8: 2000
A9: Community Fundraiser | L9: 143.28 | N9: 143.28 | O9: 1000
A10: Fun Run | E10: =296.06+2106.5 -> 2402.56 | F10: =25993.51+25+100+100 -> 26218.51 | N10: 28621.07 | O10: 25000
A11: Member/Misc (Donation; incl. corp. match funds) | E11: 20 | F11: =710.01 -> 710.01 | G11: =770.65 -> 770.65 | H11: 700 | I11: =150 -> 150 | N11: 2350.66 | O11: 2000
A12: Music & School Concert Donations | J12: =144.55+105 -> 249.55 | N12: 249.55 | O12: 0
A13: Restaurant Night | H13: 233.95 | L13: =444.51+136.44+32.21 -> 613.16 | N13: 847.11 | O13: 500
A14: Rewards Programs (Amazon Smile, Fred Meyer) | D14: =148.45+109.81 -> 258.26 | F14: =108+120.71 -> 228.71 | I14: =157.13+118.33 -> 275.46 | L14: =123.45+79.64 -> 203.09 | N14: 965.52 | O14: 800
A15: School Supplies Donations | D15: 7369.83 | N15: 7369.83 | O15: 7000
A16: Science Expo | N16: 0 | O16: 500
A17: Staff Appreciation donations | N17: 0 | O17: 1000
A19: Total Income | B19: =SUM(B4:B18) -> 0 | C19: =SUM(C4:C18) -> 0 | D19: =SUM(D4:D18) -> 7628.09 | E19: =SUM(E4:E18) -> 5292.77 | F19: =SUM(F4:F18) -> 25904.85 | G19: =SUM(G4:G18) -> 770.65 | H19: =SUM(H4:H18) -> 2958.85 | I19: =SUM(I4:I18) -> 425.46 | ... O19: =SUM(O4:O18) -> 45800
A20: Expenses
A21: 5th Grade Send Off (Expenses) | N21: 0 | O21: 1500
A22: Art Literacy | F22: =150 -> 150 | N22: 150 | O22: 1500
A23: Assemblies | K23: =800 -> 800 | N23: 800 | O23: 2000
A24: Battle of the Books | D24: 65 | G24: =441.31+52.44+94.8+266.5 -> 855.05 | I24: =283.54 -> 283.54 | L24: 41.73 | N24: 1245.32 | O24: 1500
A25: Boohoo Woohoo (welcome new families) | N25: 0 | O25: 100
A26: Book Fair Profit Spending | N26: 0 | O26: 3000
A27: Book Room | G27: 211.2 | J27: =64 -> 64 | N27: 275.2 | O27: 500
A28: Brain Pop (Peterson) | N28: 0 | O28: 230
A29: Chess Club | N29: 0 | O29: 100
A30: Class Parties | F30: =139.02+45.97+50+49.09+38.05 -> 322.13 | H30: =15.86 -> 15.86 | I30: =50+15.31+17.19+109.81+47.07 -> 239.38 | L30: =78.03 -> 78.03 | N30: 655.4 | O30: 2700
A31: Clothes Closet Donation | D31: 250 | N31: 250 | O31: 250
A32: Community Fundraiser (Flow through) | N32: 0 | O32: 1000
A33: Concerts / Music Room Supplies | I33: =371.23+202.78 -> 574.01 | L33: =1642.2 -> 1642.2 | N33: 2216.21 | O33: 2500
A34: Family Events - Donut w/GrownUp/Dance | G34: =128.28+280.44 -> 408.72 | I34: =100 -> 100 | N34: 508.72 | O34: 750
A35: Dry Cleaining (Furry Grover) | N35: 0 | O35: 50
A36: Dues & Subscriptions | E36: =21.17+20.17 -> 41.34 | F36: 149 | N36: 190.34 | O36: 600
A37: Emergency Buckets | D37: 101.92 | N37: 101.92 | O37: 100
A38: Field Day (Villegas) | L38: =47.94 -> 47.94 | N38: 47.94 | O38: 200
A39: Field Trips | N39: 0
A40: Kindy | E40: 120 | N40: 120 | O40: 1875
A41: 1st Grade | J41: =354.9 -> 354.9 | N41: 354.9 | O41: 1875
A42: 2nd Grade | D42: 210.15 | I42: =409.9 -> 409.9 | K42: =228.15 -> 228.15 | N42: 848.2 | O42: 1875
...

Sheet Sheet2
A3: PreK | B3: Norris | C3: 250
A4: K | B4: Harwood | C4: 250
A5: K | B5: Mayes/Gooding | C5: 250
A6: K | B6: Leijon | C6: 250
A7: 1st | B7: Trinci | C7: 250
A8: 1st | B8: Ford | C8: 250
A9: 1st | B9: Barto | C9: 250
A10: 2nd | B10: Melvin | C10: 250
A11: 2nd | B11: Beltran | C11: 250
A12: 2nd | B12: Viegas | C12: 250
A13: 3rd | B13: West | C13: 250
A14: 3rd | B14: Oakes | C14: 250
... A35: Speech | B35: Dolan | C35: 250
A37: Bilingual Facilitator | B37: Meneses Luna | C37: ?
C40: =SUM(C3:C38) -> 8500
